BEGIN:VCALENDAR
VERSION:2.0
PRODID:-//Andria Theatre //NONSGML Performances Calendar //EN
CALSCALE:GREGORIAN
X-WR-CALNAME:Andria Theatre -Performance Calendar
X-WR-TIMEZONE:America/Chicago
BEGIN:VEVENT
CREATED:20250604T150000Z
UID:393100020260430190000
DTEND;TZID=America/Chicago:20260430T210000
DTSTART;TZID=America/Chicago:20260430T190000
DTSTAMP:20260425T170128Z
LOCATION:Andria Theatre, 618 Broadway St, Alexandria, MN 56308
DESCRIPTION:Catch Me If You Can at the Andria Theatre! Show Synopsys:  Seeking fame and fortune, Frank Abagnale, Jr., runs away from home to begin an unforgettable adventure. With nothing more than his boyish charm, a big imagination and millions of dollars in forged checks, Frank successfully poses as a pilot, a doctor and a lawyer â living the high life and winning the girl of his dreams. When Frank&#039;s lies catch the attention of FBI agent, Carl Hanratty, though, Carl pursues Frank across the country to make him pay for his crimes.    Based on the hit film and the incredible true story,Â &lt;em&gt;Catch Me If You CanÂ &lt;/em&gt;is the high-flying musical comedy about chasing your dreams and not getting caught. Nominated for four Tony awards, including Best Musical, this delightfully entertaining show was created by a Tony Award-winning &quot;dream team,&quot; with a book by Terrence McNally (&lt;em&gt;The Full Monty&lt;/em&gt;,Â &lt;em&gt;Ragtime&lt;/em&gt;) and a swinging score by Marc Shaiman and Scott Wittman (&lt;em&gt;Hairspray&lt;/em&gt;). 
SUMMARY:Catch Me If You Can
ORGANIZER:Andria Theatre
URL;VALUE=URI:https://andriatheatre.org/show/catch-me-if-you-can/
TRANSP:OPAQUE
BEGIN:VALARM
ACTION:DISPLAY
TRIGGER:-P0DT1H0M0S
DESCRIPTION:Reminder for Catch Me If You Can
END:VALARM
END:VEVENT
BEGIN:VEVENT
CREATED:20250604T150000Z
UID:393100020260501190000
DTEND;TZID=America/Chicago:20260501T210000
DTSTART;TZID=America/Chicago:20260501T190000
DTSTAMP:20260425T170128Z
LOCATION:Andria Theatre, 618 Broadway St, Alexandria, MN 56308
DESCRIPTION:Catch Me If You Can at the Andria Theatre! Show Synopsys:  Seeking fame and fortune, Frank Abagnale, Jr., runs away from home to begin an unforgettable adventure. With nothing more than his boyish charm, a big imagination and millions of dollars in forged checks, Frank successfully poses as a pilot, a doctor and a lawyer â living the high life and winning the girl of his dreams. When Frank&#039;s lies catch the attention of FBI agent, Carl Hanratty, though, Carl pursues Frank across the country to make him pay for his crimes.    Based on the hit film and the incredible true story,Â &lt;em&gt;Catch Me If You CanÂ &lt;/em&gt;is the high-flying musical comedy about chasing your dreams and not getting caught. Nominated for four Tony awards, including Best Musical, this delightfully entertaining show was created by a Tony Award-winning &quot;dream team,&quot; with a book by Terrence McNally (&lt;em&gt;The Full Monty&lt;/em&gt;,Â &lt;em&gt;Ragtime&lt;/em&gt;) and a swinging score by Marc Shaiman and Scott Wittman (&lt;em&gt;Hairspray&lt;/em&gt;). 
SUMMARY:Catch Me If You Can
ORGANIZER:Andria Theatre
URL;VALUE=URI:https://andriatheatre.org/show/catch-me-if-you-can/
TRANSP:OPAQUE
BEGIN:VALARM
ACTION:DISPLAY
TRIGGER:-P0DT1H0M0S
DESCRIPTION:Reminder for Catch Me If You Can
END:VALARM
END:VEVENT
BEGIN:VEVENT
CREATED:20250604T150000Z
UID:393100020260502190000
DTEND;TZID=America/Chicago:20260502T210000
DTSTART;TZID=America/Chicago:20260502T190000
DTSTAMP:20260425T170128Z
LOCATION:Andria Theatre, 618 Broadway St, Alexandria, MN 56308
DESCRIPTION:Catch Me If You Can at the Andria Theatre! Show Synopsys:  Seeking fame and fortune, Frank Abagnale, Jr., runs away from home to begin an unforgettable adventure. With nothing more than his boyish charm, a big imagination and millions of dollars in forged checks, Frank successfully poses as a pilot, a doctor and a lawyer â living the high life and winning the girl of his dreams. When Frank&#039;s lies catch the attention of FBI agent, Carl Hanratty, though, Carl pursues Frank across the country to make him pay for his crimes.    Based on the hit film and the incredible true story,Â &lt;em&gt;Catch Me If You CanÂ &lt;/em&gt;is the high-flying musical comedy about chasing your dreams and not getting caught. Nominated for four Tony awards, including Best Musical, this delightfully entertaining show was created by a Tony Award-winning &quot;dream team,&quot; with a book by Terrence McNally (&lt;em&gt;The Full Monty&lt;/em&gt;,Â &lt;em&gt;Ragtime&lt;/em&gt;) and a swinging score by Marc Shaiman and Scott Wittman (&lt;em&gt;Hairspray&lt;/em&gt;). 
SUMMARY:Catch Me If You Can
ORGANIZER:Andria Theatre
URL;VALUE=URI:https://andriatheatre.org/show/catch-me-if-you-can/
TRANSP:OPAQUE
BEGIN:VALARM
ACTION:DISPLAY
TRIGGER:-P0DT1H0M0S
DESCRIPTION:Reminder for Catch Me If You Can
END:VALARM
END:VEVENT
BEGIN:VEVENT
CREATED:20250604T150000Z
UID:393100020260503140000
DTEND;TZID=America/Chicago:20260503T160000
DTSTART;TZID=America/Chicago:20260503T140000
DTSTAMP:20260425T170128Z
LOCATION:Andria Theatre, 618 Broadway St, Alexandria, MN 56308
DESCRIPTION:Catch Me If You Can at the Andria Theatre! Show Synopsys:  Seeking fame and fortune, Frank Abagnale, Jr., runs away from home to begin an unforgettable adventure. With nothing more than his boyish charm, a big imagination and millions of dollars in forged checks, Frank successfully poses as a pilot, a doctor and a lawyer â living the high life and winning the girl of his dreams. When Frank&#039;s lies catch the attention of FBI agent, Carl Hanratty, though, Carl pursues Frank across the country to make him pay for his crimes.    Based on the hit film and the incredible true story,Â &lt;em&gt;Catch Me If You CanÂ &lt;/em&gt;is the high-flying musical comedy about chasing your dreams and not getting caught. Nominated for four Tony awards, including Best Musical, this delightfully entertaining show was created by a Tony Award-winning &quot;dream team,&quot; with a book by Terrence McNally (&lt;em&gt;The Full Monty&lt;/em&gt;,Â &lt;em&gt;Ragtime&lt;/em&gt;) and a swinging score by Marc Shaiman and Scott Wittman (&lt;em&gt;Hairspray&lt;/em&gt;). 
SUMMARY:Catch Me If You Can
ORGANIZER:Andria Theatre
URL;VALUE=URI:https://andriatheatre.org/show/catch-me-if-you-can/
TRANSP:OPAQUE
BEGIN:VALARM
ACTION:DISPLAY
TRIGGER:-P0DT1H0M0S
DESCRIPTION:Reminder for Catch Me If You Can
END:VALARM
END:VEVENT
BEGIN:VEVENT
CREATED:20250604T150000Z
UID:393100020260507190000
DTEND;TZID=America/Chicago:20260507T210000
DTSTART;TZID=America/Chicago:20260507T190000
DTSTAMP:20260425T170128Z
LOCATION:Andria Theatre, 618 Broadway St, Alexandria, MN 56308
DESCRIPTION:Catch Me If You Can at the Andria Theatre! Show Synopsys:  Seeking fame and fortune, Frank Abagnale, Jr., runs away from home to begin an unforgettable adventure. With nothing more than his boyish charm, a big imagination and millions of dollars in forged checks, Frank successfully poses as a pilot, a doctor and a lawyer â living the high life and winning the girl of his dreams. When Frank&#039;s lies catch the attention of FBI agent, Carl Hanratty, though, Carl pursues Frank across the country to make him pay for his crimes.    Based on the hit film and the incredible true story,Â &lt;em&gt;Catch Me If You CanÂ &lt;/em&gt;is the high-flying musical comedy about chasing your dreams and not getting caught. Nominated for four Tony awards, including Best Musical, this delightfully entertaining show was created by a Tony Award-winning &quot;dream team,&quot; with a book by Terrence McNally (&lt;em&gt;The Full Monty&lt;/em&gt;,Â &lt;em&gt;Ragtime&lt;/em&gt;) and a swinging score by Marc Shaiman and Scott Wittman (&lt;em&gt;Hairspray&lt;/em&gt;). 
SUMMARY:Catch Me If You Can
ORGANIZER:Andria Theatre
URL;VALUE=URI:https://andriatheatre.org/show/catch-me-if-you-can/
TRANSP:OPAQUE
BEGIN:VALARM
ACTION:DISPLAY
TRIGGER:-P0DT1H0M0S
DESCRIPTION:Reminder for Catch Me If You Can
END:VALARM
END:VEVENT
BEGIN:VEVENT
CREATED:20250604T150000Z
UID:393100020260508190000
DTEND;TZID=America/Chicago:20260508T210000
DTSTART;TZID=America/Chicago:20260508T190000
DTSTAMP:20260425T170128Z
LOCATION:Andria Theatre, 618 Broadway St, Alexandria, MN 56308
DESCRIPTION:Catch Me If You Can at the Andria Theatre! Show Synopsys:  Seeking fame and fortune, Frank Abagnale, Jr., runs away from home to begin an unforgettable adventure. With nothing more than his boyish charm, a big imagination and millions of dollars in forged checks, Frank successfully poses as a pilot, a doctor and a lawyer â living the high life and winning the girl of his dreams. When Frank&#039;s lies catch the attention of FBI agent, Carl Hanratty, though, Carl pursues Frank across the country to make him pay for his crimes.    Based on the hit film and the incredible true story,Â &lt;em&gt;Catch Me If You CanÂ &lt;/em&gt;is the high-flying musical comedy about chasing your dreams and not getting caught. Nominated for four Tony awards, including Best Musical, this delightfully entertaining show was created by a Tony Award-winning &quot;dream team,&quot; with a book by Terrence McNally (&lt;em&gt;The Full Monty&lt;/em&gt;,Â &lt;em&gt;Ragtime&lt;/em&gt;) and a swinging score by Marc Shaiman and Scott Wittman (&lt;em&gt;Hairspray&lt;/em&gt;). 
SUMMARY:Catch Me If You Can
ORGANIZER:Andria Theatre
URL;VALUE=URI:https://andriatheatre.org/show/catch-me-if-you-can/
TRANSP:OPAQUE
BEGIN:VALARM
ACTION:DISPLAY
TRIGGER:-P0DT1H0M0S
DESCRIPTION:Reminder for Catch Me If You Can
END:VALARM
END:VEVENT
BEGIN:VEVENT
CREATED:20250604T150000Z
UID:393100020260509190000
DTEND;TZID=America/Chicago:20260509T210000
DTSTART;TZID=America/Chicago:20260509T190000
DTSTAMP:20260425T170128Z
LOCATION:Andria Theatre, 618 Broadway St, Alexandria, MN 56308
DESCRIPTION:Catch Me If You Can at the Andria Theatre! Show Synopsys:  Seeking fame and fortune, Frank Abagnale, Jr., runs away from home to begin an unforgettable adventure. With nothing more than his boyish charm, a big imagination and millions of dollars in forged checks, Frank successfully poses as a pilot, a doctor and a lawyer â living the high life and winning the girl of his dreams. When Frank&#039;s lies catch the attention of FBI agent, Carl Hanratty, though, Carl pursues Frank across the country to make him pay for his crimes.    Based on the hit film and the incredible true story,Â &lt;em&gt;Catch Me If You CanÂ &lt;/em&gt;is the high-flying musical comedy about chasing your dreams and not getting caught. Nominated for four Tony awards, including Best Musical, this delightfully entertaining show was created by a Tony Award-winning &quot;dream team,&quot; with a book by Terrence McNally (&lt;em&gt;The Full Monty&lt;/em&gt;,Â &lt;em&gt;Ragtime&lt;/em&gt;) and a swinging score by Marc Shaiman and Scott Wittman (&lt;em&gt;Hairspray&lt;/em&gt;). 
SUMMARY:Catch Me If You Can
ORGANIZER:Andria Theatre
URL;VALUE=URI:https://andriatheatre.org/show/catch-me-if-you-can/
TRANSP:OPAQUE
BEGIN:VALARM
ACTION:DISPLAY
TRIGGER:-P0DT1H0M0S
DESCRIPTION:Reminder for Catch Me If You Can
END:VALARM
END:VEVENT
BEGIN:VEVENT
CREATED:20250604T150000Z
UID:393100020260510140000
DTEND;TZID=America/Chicago:20260510T160000
DTSTART;TZID=America/Chicago:20260510T140000
DTSTAMP:20260425T170128Z
LOCATION:Andria Theatre, 618 Broadway St, Alexandria, MN 56308
DESCRIPTION:Catch Me If You Can at the Andria Theatre! Show Synopsys:  Seeking fame and fortune, Frank Abagnale, Jr., runs away from home to begin an unforgettable adventure. With nothing more than his boyish charm, a big imagination and millions of dollars in forged checks, Frank successfully poses as a pilot, a doctor and a lawyer â living the high life and winning the girl of his dreams. When Frank&#039;s lies catch the attention of FBI agent, Carl Hanratty, though, Carl pursues Frank across the country to make him pay for his crimes.    Based on the hit film and the incredible true story,Â &lt;em&gt;Catch Me If You CanÂ &lt;/em&gt;is the high-flying musical comedy about chasing your dreams and not getting caught. Nominated for four Tony awards, including Best Musical, this delightfully entertaining show was created by a Tony Award-winning &quot;dream team,&quot; with a book by Terrence McNally (&lt;em&gt;The Full Monty&lt;/em&gt;,Â &lt;em&gt;Ragtime&lt;/em&gt;) and a swinging score by Marc Shaiman and Scott Wittman (&lt;em&gt;Hairspray&lt;/em&gt;). 
SUMMARY:Catch Me If You Can
ORGANIZER:Andria Theatre
URL;VALUE=URI:https://andriatheatre.org/show/catch-me-if-you-can/
TRANSP:OPAQUE
BEGIN:VALARM
ACTION:DISPLAY
TRIGGER:-P0DT1H0M0S
DESCRIPTION:Reminder for Catch Me If You Can
END:VALARM
END:VEVENT
BEGIN:VEVENT
CREATED:20250604T150000Z
UID:393200020260610190000
DTEND;TZID=America/Chicago:20260610T210000
DTSTART;TZID=America/Chicago:20260610T190000
DTSTAMP:20260425T170128Z
LOCATION:Andria Theatre, 618 Broadway St, Alexandria, MN 56308
DESCRIPTION:Something Rotten Jr. at the Andria Theatre! Show Synopsys:  In the 1590s, brothers Nick and Nigel Bottom are desperate to write a hit play but are stuck in the shadow of that Renaissance rock star known as &quot;The Bard.&quot; When a local soothsayer foretells that the future of theatre involves singing, dancing and acting at the same time, Nick and Nigel set out to write the worldâs very first musical. But amidst the scandalous excitement of opening night, the Bottom Brothers realize that reaching the top means being true to thine own self, and all that jazz. 
SUMMARY:Something Rotten Jr.
ORGANIZER:Andria Theatre
URL;VALUE=URI:https://andriatheatre.org/show/something-rotten-jr/
TRANSP:OPAQUE
BEGIN:VALARM
ACTION:DISPLAY
TRIGGER:-P0DT1H0M0S
DESCRIPTION:Reminder for Something Rotten Jr.
END:VALARM
END:VEVENT
BEGIN:VEVENT
CREATED:20250604T150000Z
UID:393200020260611190000
DTEND;TZID=America/Chicago:20260611T210000
DTSTART;TZID=America/Chicago:20260611T190000
DTSTAMP:20260425T170128Z
LOCATION:Andria Theatre, 618 Broadway St, Alexandria, MN 56308
DESCRIPTION:Something Rotten Jr. at the Andria Theatre! Show Synopsys:  In the 1590s, brothers Nick and Nigel Bottom are desperate to write a hit play but are stuck in the shadow of that Renaissance rock star known as &quot;The Bard.&quot; When a local soothsayer foretells that the future of theatre involves singing, dancing and acting at the same time, Nick and Nigel set out to write the worldâs very first musical. But amidst the scandalous excitement of opening night, the Bottom Brothers realize that reaching the top means being true to thine own self, and all that jazz. 
SUMMARY:Something Rotten Jr.
ORGANIZER:Andria Theatre
URL;VALUE=URI:https://andriatheatre.org/show/something-rotten-jr/
TRANSP:OPAQUE
BEGIN:VALARM
ACTION:DISPLAY
TRIGGER:-P0DT1H0M0S
DESCRIPTION:Reminder for Something Rotten Jr.
END:VALARM
END:VEVENT
BEGIN:VEVENT
CREATED:20250604T150000Z
UID:393200020260612190000
DTEND;TZID=America/Chicago:20260612T210000
DTSTART;TZID=America/Chicago:20260612T190000
DTSTAMP:20260425T170128Z
LOCATION:Andria Theatre, 618 Broadway St, Alexandria, MN 56308
DESCRIPTION:Something Rotten Jr. at the Andria Theatre! Show Synopsys:  In the 1590s, brothers Nick and Nigel Bottom are desperate to write a hit play but are stuck in the shadow of that Renaissance rock star known as &quot;The Bard.&quot; When a local soothsayer foretells that the future of theatre involves singing, dancing and acting at the same time, Nick and Nigel set out to write the worldâs very first musical. But amidst the scandalous excitement of opening night, the Bottom Brothers realize that reaching the top means being true to thine own self, and all that jazz. 
SUMMARY:Something Rotten Jr.
ORGANIZER:Andria Theatre
URL;VALUE=URI:https://andriatheatre.org/show/something-rotten-jr/
TRANSP:OPAQUE
BEGIN:VALARM
ACTION:DISPLAY
TRIGGER:-P0DT1H0M0S
DESCRIPTION:Reminder for Something Rotten Jr.
END:VALARM
END:VEVENT
BEGIN:VEVENT
CREATED:20250604T150000Z
UID:393200020260613140000
DTEND;TZID=America/Chicago:20260613T160000
DTSTART;TZID=America/Chicago:20260613T140000
DTSTAMP:20260425T170128Z
LOCATION:Andria Theatre, 618 Broadway St, Alexandria, MN 56308
DESCRIPTION:Something Rotten Jr. at the Andria Theatre! Show Synopsys:  In the 1590s, brothers Nick and Nigel Bottom are desperate to write a hit play but are stuck in the shadow of that Renaissance rock star known as &quot;The Bard.&quot; When a local soothsayer foretells that the future of theatre involves singing, dancing and acting at the same time, Nick and Nigel set out to write the worldâs very first musical. But amidst the scandalous excitement of opening night, the Bottom Brothers realize that reaching the top means being true to thine own self, and all that jazz. 
SUMMARY:Something Rotten Jr.
ORGANIZER:Andria Theatre
URL;VALUE=URI:https://andriatheatre.org/show/something-rotten-jr/
TRANSP:OPAQUE
BEGIN:VALARM
ACTION:DISPLAY
TRIGGER:-P0DT1H0M0S
DESCRIPTION:Reminder for Something Rotten Jr.
END:VALARM
END:VEVENT
BEGIN:VEVENT
CREATED:20250604T150000Z
UID:393200020260617190000
DTEND;TZID=America/Chicago:20260617T210000
DTSTART;TZID=America/Chicago:20260617T190000
DTSTAMP:20260425T170128Z
LOCATION:Andria Theatre, 618 Broadway St, Alexandria, MN 56308
DESCRIPTION:Something Rotten Jr. at the Andria Theatre! Show Synopsys:  In the 1590s, brothers Nick and Nigel Bottom are desperate to write a hit play but are stuck in the shadow of that Renaissance rock star known as &quot;The Bard.&quot; When a local soothsayer foretells that the future of theatre involves singing, dancing and acting at the same time, Nick and Nigel set out to write the worldâs very first musical. But amidst the scandalous excitement of opening night, the Bottom Brothers realize that reaching the top means being true to thine own self, and all that jazz. 
SUMMARY:Something Rotten Jr.
ORGANIZER:Andria Theatre
URL;VALUE=URI:https://andriatheatre.org/show/something-rotten-jr/
TRANSP:OPAQUE
BEGIN:VALARM
ACTION:DISPLAY
TRIGGER:-P0DT1H0M0S
DESCRIPTION:Reminder for Something Rotten Jr.
END:VALARM
END:VEVENT
BEGIN:VEVENT
CREATED:20250604T150000Z
UID:393200020260618190000
DTEND;TZID=America/Chicago:20260618T210000
DTSTART;TZID=America/Chicago:20260618T190000
DTSTAMP:20260425T170128Z
LOCATION:Andria Theatre, 618 Broadway St, Alexandria, MN 56308
DESCRIPTION:Something Rotten Jr. at the Andria Theatre! Show Synopsys:  In the 1590s, brothers Nick and Nigel Bottom are desperate to write a hit play but are stuck in the shadow of that Renaissance rock star known as &quot;The Bard.&quot; When a local soothsayer foretells that the future of theatre involves singing, dancing and acting at the same time, Nick and Nigel set out to write the worldâs very first musical. But amidst the scandalous excitement of opening night, the Bottom Brothers realize that reaching the top means being true to thine own self, and all that jazz. 
SUMMARY:Something Rotten Jr.
ORGANIZER:Andria Theatre
URL;VALUE=URI:https://andriatheatre.org/show/something-rotten-jr/
TRANSP:OPAQUE
BEGIN:VALARM
ACTION:DISPLAY
TRIGGER:-P0DT1H0M0S
DESCRIPTION:Reminder for Something Rotten Jr.
END:VALARM
END:VEVENT
BEGIN:VEVENT
CREATED:20250604T150000Z
UID:393200020260619190000
DTEND;TZID=America/Chicago:20260619T210000
DTSTART;TZID=America/Chicago:20260619T190000
DTSTAMP:20260425T170128Z
LOCATION:Andria Theatre, 618 Broadway St, Alexandria, MN 56308
DESCRIPTION:Something Rotten Jr. at the Andria Theatre! Show Synopsys:  In the 1590s, brothers Nick and Nigel Bottom are desperate to write a hit play but are stuck in the shadow of that Renaissance rock star known as &quot;The Bard.&quot; When a local soothsayer foretells that the future of theatre involves singing, dancing and acting at the same time, Nick and Nigel set out to write the worldâs very first musical. But amidst the scandalous excitement of opening night, the Bottom Brothers realize that reaching the top means being true to thine own self, and all that jazz. 
SUMMARY:Something Rotten Jr.
ORGANIZER:Andria Theatre
URL;VALUE=URI:https://andriatheatre.org/show/something-rotten-jr/
TRANSP:OPAQUE
BEGIN:VALARM
ACTION:DISPLAY
TRIGGER:-P0DT1H0M0S
DESCRIPTION:Reminder for Something Rotten Jr.
END:VALARM
END:VEVENT
BEGIN:VEVENT
CREATED:20250604T150000Z
UID:393200020260620140000
DTEND;TZID=America/Chicago:20260620T160000
DTSTART;TZID=America/Chicago:20260620T140000
DTSTAMP:20260425T170128Z
LOCATION:Andria Theatre, 618 Broadway St, Alexandria, MN 56308
DESCRIPTION:Something Rotten Jr. at the Andria Theatre! Show Synopsys:  In the 1590s, brothers Nick and Nigel Bottom are desperate to write a hit play but are stuck in the shadow of that Renaissance rock star known as &quot;The Bard.&quot; When a local soothsayer foretells that the future of theatre involves singing, dancing and acting at the same time, Nick and Nigel set out to write the worldâs very first musical. But amidst the scandalous excitement of opening night, the Bottom Brothers realize that reaching the top means being true to thine own self, and all that jazz. 
SUMMARY:Something Rotten Jr.
ORGANIZER:Andria Theatre
URL;VALUE=URI:https://andriatheatre.org/show/something-rotten-jr/
TRANSP:OPAQUE
BEGIN:VALARM
ACTION:DISPLAY
TRIGGER:-P0DT1H0M0S
DESCRIPTION:Reminder for Something Rotten Jr.
END:VALARM
END:VEVENT
END:VCALENDAR
